BEGIN:VCALENDAR
VERSION:2.0
PRODID:-//jEvents 2.0 for Joomla//EN
CALSCALE:GREGORIAN
METHOD:PUBLISH
BEGIN:VTIMEZONE
TZID:Europe/Berlin
END:VTIMEZONE
BEGIN:VEVENT
UID:c713e425f1c8d860fc2174507c7c9914
CATEGORIES:Turnen
CREATED:20250122T223928
SUMMARY:Turnen - Damen
LOCATION:Sporthalle Hettingen
DESCRIPTION:Turnen - Damen\n
X-ALT-DESC;FMTTYPE=text/html:<p>Turnen - Damen</p>
CONTACT:Trainerin: Christel Gremminger
DTSTAMP:20260420T100155
DTSTART;TZID=Europe/Berlin:20330118T150000
DTEND;TZID=Europe/Berlin:20330118T163000
SEQUENCE:0
TRANSP:OPAQUE
END:VEVENT
END:VCALENDAR