BEGIN:VCALENDAR
VERSION:2.0
PRODID:-//jEvents 2.0 for Joomla//EN
CALSCALE:GREGORIAN
METHOD:PUBLISH
BEGIN:VTIMEZONE
TZID:Europe/Berlin
END:VTIMEZONE
BEGIN:VEVENT
UID:c713e425f1c8d860fc2174507c7c9914
CATEGORIES:Turnen
CREATED:20250122T223928
SUMMARY:Turnen - Damen
LOCATION:Sporthalle Hettingen
DESCRIPTION:<p>Turnen - Damen</p>
CONTACT:Trainerin: Christel Gremminger
DTSTAMP:20260422T012336
DTSTART;TZID=Europe/Berlin:20330322T150000
DTEND;TZID=Europe/Berlin:20330322T163000
SEQUENCE:0
TRANSP:OPAQUE
END:VEVENT
END:VCALENDAR